BEGIN:VCALENDAR
VERSION:2.0
PRODID:-//odkf.org//NONSGML kigkonsult.se iCalcreator 2.30.10//
CALSCALE:GREGORIAN
METHOD:PUBLISH
UID:d64403c7-1617-475a-a5d4-527f8a3937b1
X-WR-CALDESC:
X-WR-RELCALID:05b693cc681f4c8ad926b231ce11373c
X-WR-TIMEZONE:America/New_York
BEGIN:VTIMEZONE
TZID:America/New_York
BEGIN:STANDARD
TZNAME:EST
DTSTART:20231105T020000
TZOFFSETFROM:-0400
TZOFFSETTO:-0500
RDATE:20241103T020000
RDATE:20251102T020000
END:STANDARD
BEGIN:DAYLIGHT
TZNAME:EDT
DTSTART:20240310T020000
TZOFFSETFROM:-0500
TZOFFSETTO:-0400
RDATE:20250309T020000
END:DAYLIGHT
END:VTIMEZONE
BEGIN:VEVENT
UID:6496ce80-a7d7-428e-b9dc-cdf2f325123d
DTSTAMP:20260419T232033Z
DESCRIPTION:
DTSTART;TZID=America/New_York:20240804T083000
DTEND;TZID=America/New_York:20240804T123000
LOCATION:
SUMMARY:ODKF Annual Meeting - Toledo
END:VEVENT
END:VCALENDAR
