BEGIN:VCALENDAR
VERSION:2.0
PRODID:-//odkf.org//NONSGML kigkonsult.se iCalcreator 2.30.10//
CALSCALE:GREGORIAN
METHOD:PUBLISH
UID:931e7212-f85e-472e-adfa-55e308b34317
X-WR-CALDESC:
X-WR-RELCALID:9b26a28d36b468aabab308de417664c2
X-WR-TIMEZONE:America/New_York
BEGIN:VTIMEZONE
TZID:America/New_York
BEGIN:STANDARD
TZNAME:EST
DTSTART:20231105T020000
TZOFFSETFROM:-0400
TZOFFSETTO:-0500
RDATE:20241103T020000
RDATE:20251102T020000
END:STANDARD
BEGIN:DAYLIGHT
TZNAME:EDT
DTSTART:20240310T020000
TZOFFSETFROM:-0500
TZOFFSETTO:-0400
RDATE:20250309T020000
END:DAYLIGHT
END:VTIMEZONE
BEGIN:VEVENT
UID:018947a1-1558-4287-bf05-14c0bbe1cf73
DTSTAMP:20260419T231653Z
DESCRIPTION:
DTSTART;TZID=America/New_York:20240802T100000
DTEND;TZID=America/New_York:20240802T113000
LOCATION:
SUMMARY:ODKF Board Meeting - Toledo
END:VEVENT
END:VCALENDAR
