BEGIN:VCALENDAR
VERSION:2.0
PRODID:-//odkf.org//NONSGML kigkonsult.se iCalcreator 2.30.10//
CALSCALE:GREGORIAN
METHOD:PUBLISH
UID:a148e701-666d-4e16-b6ff-92578d27ccfd
X-WR-CALDESC:
X-WR-RELCALID:9450665aac2df45e9c3289df7b74c87a
X-WR-TIMEZONE:America/New_York
BEGIN:VTIMEZONE
TZID:America/New_York
BEGIN:STANDARD
TZNAME:EST
DTSTART:20231105T020000
TZOFFSETFROM:-0400
TZOFFSETTO:-0500
RDATE:20241103T020000
RDATE:20251102T020000
END:STANDARD
BEGIN:DAYLIGHT
TZNAME:EDT
DTSTART:20240310T020000
TZOFFSETFROM:-0500
TZOFFSETTO:-0400
RDATE:20250309T020000
END:DAYLIGHT
END:VTIMEZONE
BEGIN:VEVENT
UID:f7b4af21-acd0-40f6-9cdb-f179f07ce2c9
DTSTAMP:20260420T005210Z
DESCRIPTION:
DTSTART;TZID=America/New_York:20240717T110000
DTEND;TZID=America/New_York:20240717T210000
LOCATION:
SUMMARY:ODKF Golf VIP Day - Raintree Golf Course
END:VEVENT
END:VCALENDAR
