BEGIN:VCALENDAR
VERSION:2.0
PRODID:-//odkf.org//NONSGML kigkonsult.se iCalcreator 2.30.10//
CALSCALE:GREGORIAN
METHOD:PUBLISH
UID:13d33c62-5413-4940-981f-257a10e4f0f1
X-WR-CALDESC:
X-WR-RELCALID:78b305af0aa6f50386781d974bb8f0b5
X-WR-TIMEZONE:America/New_York
BEGIN:VTIMEZONE
TZID:America/New_York
BEGIN:STANDARD
TZNAME:EST
DTSTART:20231105T020000
TZOFFSETFROM:-0400
TZOFFSETTO:-0500
RDATE:20241103T020000
RDATE:20251102T020000
END:STANDARD
BEGIN:DAYLIGHT
TZNAME:EDT
DTSTART:20240310T020000
TZOFFSETFROM:-0500
TZOFFSETTO:-0400
RDATE:20250309T020000
END:DAYLIGHT
END:VTIMEZONE
BEGIN:VEVENT
UID:4b5d68e8-006a-4372-b66a-b4a291daf6d8
DTSTAMP:20260420T005305Z
DESCRIPTION:
DTSTART;TZID=America/New_York:20240717T190000
DTEND;TZID=America/New_York:20240717T200000
LOCATION:
SUMMARY:General grant and mini grant approval meeting
END:VEVENT
END:VCALENDAR
