BEGIN:VCALENDAR
VERSION:2.0
PRODID:-//odkf.org//NONSGML kigkonsult.se iCalcreator 2.30.10//
CALSCALE:GREGORIAN
METHOD:PUBLISH
UID:28450e18-6dd2-434f-8d93-027f81f37168
X-WR-CALDESC:
X-WR-RELCALID:b6aca10d1ce16d23286987cdf7780aa1
X-WR-TIMEZONE:America/New_York
BEGIN:VTIMEZONE
TZID:America/New_York
BEGIN:STANDARD
TZNAME:EST
DTSTART:20231105T020000
TZOFFSETFROM:-0400
TZOFFSETTO:-0500
RDATE:20241103T020000
RDATE:20251102T020000
END:STANDARD
BEGIN:DAYLIGHT
TZNAME:EDT
DTSTART:20240310T020000
TZOFFSETFROM:-0500
TZOFFSETTO:-0400
RDATE:20250309T020000
END:DAYLIGHT
END:VTIMEZONE
BEGIN:VEVENT
UID:1467e135-c615-433f-b00e-952ba40932ea
DTSTAMP:20260420T004705Z
DESCRIPTION:
DTSTART;TZID=America/New_York:20240703T070000
DTEND;TZID=America/New_York:20240706T230000
LOCATION:
SUMMARY:KI and Circle K International Conventions - Denver
END:VEVENT
END:VCALENDAR
