BEGIN:VCALENDAR
VERSION:2.0
PRODID:-//odkf.org//NONSGML kigkonsult.se iCalcreator 2.30.10//
CALSCALE:GREGORIAN
METHOD:PUBLISH
UID:b8f2db45-0884-4da7-b817-0397afe2b26c
X-WR-CALDESC:
X-WR-RELCALID:93964d55da5db02330d3ff6abecc44da
X-WR-TIMEZONE:America/New_York
BEGIN:VTIMEZONE
TZID:America/New_York
BEGIN:STANDARD
TZNAME:EST
DTSTART:20231105T020000
TZOFFSETFROM:-0400
TZOFFSETTO:-0500
RDATE:20241103T020000
RDATE:20251102T020000
END:STANDARD
BEGIN:DAYLIGHT
TZNAME:EDT
DTSTART:20240310T020000
TZOFFSETFROM:-0500
TZOFFSETTO:-0400
RDATE:20250309T020000
END:DAYLIGHT
END:VTIMEZONE
BEGIN:VEVENT
UID:322abef5-bb54-49bb-aae0-62a79af681f2
DTSTAMP:20260420T022615Z
DESCRIPTION:
DTSTART;TZID=America/New_York:20240630T000000
DTEND;TZID=America/New_York:20240630T235900
LOCATION:
SUMMARY:ODKF Mini Grant Applications Due
END:VEVENT
END:VCALENDAR
