BEGIN:VCALENDAR
VERSION:2.0
PRODID:-//odkf.org//NONSGML kigkonsult.se iCalcreator 2.30.10//
CALSCALE:GREGORIAN
METHOD:PUBLISH
UID:91f4126d-b356-4549-b04b-b9c4e05c121a
X-WR-CALDESC:
X-WR-RELCALID:9fbe136868a2fa4d022ae57027f8a153
X-WR-TIMEZONE:America/New_York
BEGIN:VTIMEZONE
TZID:America/New_York
BEGIN:STANDARD
TZNAME:EST
DTSTART:20231105T020000
TZOFFSETFROM:-0400
TZOFFSETTO:-0500
RDATE:20241103T020000
RDATE:20251102T020000
END:STANDARD
BEGIN:DAYLIGHT
TZNAME:EDT
DTSTART:20240310T020000
TZOFFSETFROM:-0500
TZOFFSETTO:-0400
RDATE:20250309T020000
END:DAYLIGHT
END:VTIMEZONE
BEGIN:VEVENT
UID:751f6e9c-332d-4b65-9a69-9248b3c3dc3e
DTSTAMP:20260420T040129Z
DESCRIPTION:
DTSTART;TZID=America/New_York:20240519T150000
DTEND;TZID=America/New_York:20240519T170000
LOCATION:
SUMMARY:ODKF Board Meeting - Columbus
END:VEVENT
END:VCALENDAR
