BEGIN:VCALENDAR
VERSION:2.0
PRODID:-//odkf.org//NONSGML kigkonsult.se iCalcreator 2.30.10//
CALSCALE:GREGORIAN
METHOD:PUBLISH
UID:5df4fa9c-4ecc-4f9b-bdc0-76ee1091437f
X-WR-CALDESC:
X-WR-RELCALID:e00360ef1ab43c4b53fcbc4b3eba6437
X-WR-TIMEZONE:America/New_York
BEGIN:VTIMEZONE
TZID:America/New_York
BEGIN:STANDARD
TZNAME:EST
DTSTART:20231105T020000
TZOFFSETFROM:-0400
TZOFFSETTO:-0500
RDATE:20241103T020000
RDATE:20251102T020000
END:STANDARD
BEGIN:DAYLIGHT
TZNAME:EDT
DTSTART:20240310T020000
TZOFFSETFROM:-0500
TZOFFSETTO:-0400
RDATE:20250309T020000
END:DAYLIGHT
END:VTIMEZONE
BEGIN:VEVENT
UID:204d9776-ff06-4558-894c-9256eb87fc3a
DTSTAMP:20260420T040047Z
DESCRIPTION:
DTSTART;TZID=America/New_York:20240515T190000
DTEND;TZID=America/New_York:20240515T200000
LOCATION:
SUMMARY:General grant and mini grant approval meeting
END:VEVENT
END:VCALENDAR
