BEGIN:VCALENDAR
VERSION:2.0
PRODID:-//odkf.org//NONSGML kigkonsult.se iCalcreator 2.30.10//
CALSCALE:GREGORIAN
METHOD:PUBLISH
UID:e5b1218f-d419-4643-aa63-28bba23da331
X-WR-CALDESC:
X-WR-RELCALID:381aeb794947e0f164c6d3a9212ed546
X-WR-TIMEZONE:America/New_York
BEGIN:VTIMEZONE
TZID:America/New_York
BEGIN:STANDARD
TZNAME:EST
DTSTART:20231105T020000
TZOFFSETFROM:-0400
TZOFFSETTO:-0500
RDATE:20241103T020000
END:STANDARD
BEGIN:DAYLIGHT
TZNAME:EDT
DTSTART:20240310T020000
TZOFFSETFROM:-0500
TZOFFSETTO:-0400
RDATE:20250309T020000
END:DAYLIGHT
END:VTIMEZONE
BEGIN:VEVENT
UID:d5430414-1359-43b2-8279-e305057e01ed
DTSTAMP:20260420T073135Z
DESCRIPTION:
DTSTART;TZID=America/New_York:20240323T130000
DTEND;TZID=America/New_York:20240324T160000
LOCATION:
SUMMARY:Circle K SPOT
END:VEVENT
END:VCALENDAR
