BEGIN:VCALENDAR
VERSION:2.0
PRODID:-//odkf.org//NONSGML kigkonsult.se iCalcreator 2.30.10//
CALSCALE:GREGORIAN
METHOD:PUBLISH
UID:49d0e593-3108-4c39-b26c-7e4ee9530e6e
X-WR-CALDESC:
X-WR-RELCALID:6bb660bdb6a44d3739e25cfb397df3b2
X-WR-TIMEZONE:America/New_York
BEGIN:VTIMEZONE
TZID:America/New_York
BEGIN:STANDARD
TZNAME:EST
DTSTART:20231105T020000
TZOFFSETFROM:-0400
TZOFFSETTO:-0500
RDATE:20241103T020000
END:STANDARD
BEGIN:DAYLIGHT
TZNAME:EDT
DTSTART:20240310T020000
TZOFFSETFROM:-0500
TZOFFSETTO:-0400
RDATE:20250309T020000
END:DAYLIGHT
END:VTIMEZONE
BEGIN:VEVENT
UID:d9afa1bd-87c0-42b7-aec9-1d0a4b242981
DTSTAMP:20260420T072036Z
DESCRIPTION:
DTSTART;TZID=America/New_York:20240316T000000
DTEND;TZID=America/New_York:20240316T235900
LOCATION:
SUMMARY:Ohio Kiwanis Mid Year Education Day - Virtual
END:VEVENT
END:VCALENDAR
