BEGIN:VCALENDAR
VERSION:2.0
PRODID:-//odkf.org//NONSGML kigkonsult.se iCalcreator 2.30.10//
CALSCALE:GREGORIAN
METHOD:PUBLISH
UID:f993fa3f-ca0e-4da2-9f91-d3c0e6d70d8a
X-WR-CALDESC:
X-WR-RELCALID:fb1b28f2c35a191fea7b9c570a4b38a5
X-WR-TIMEZONE:America/New_York
BEGIN:VTIMEZONE
TZID:America/New_York
BEGIN:STANDARD
TZNAME:EST
DTSTART:20231105T020000
TZOFFSETFROM:-0400
TZOFFSETTO:-0500
RDATE:20241103T020000
END:STANDARD
BEGIN:DAYLIGHT
TZNAME:EDT
DTSTART:20240310T020000
TZOFFSETFROM:-0500
TZOFFSETTO:-0400
RDATE:20250309T020000
END:DAYLIGHT
END:VTIMEZONE
BEGIN:VEVENT
UID:9e3b864d-b809-4311-9dfc-f9aa53f6d188
DTSTAMP:20260420T071739Z
DESCRIPTION:
DTSTART;TZID=America/New_York:20240313T190000
DTEND;TZID=America/New_York:20240313T200000
LOCATION:
SUMMARY:Mini grant approval meeting
END:VEVENT
END:VCALENDAR
